BEGIN:VCALENDAR
VERSION:2.0
PRODID:-//Plone.org//NONSGML plone.app.event//EN
X-WR-TIMEZONE:America/Maceio
BEGIN:VEVENT
SUMMARY:📢 Aula Inaugural PPGAS/UFAL 2024
DTSTART;TZID=America/Maceio:20240924T143000
DTEND;TZID=America/Maceio:20240924T190000
DTSTAMP:20260420T184148Z
UID:ca3c9942ceb84e7a8c1434635cfa4eb1@ics.ufal.br
ATTENDEE;CN="🎤 Prof. Mariano Baez Landa (CIESAS-Xalapa, México)";ROLE=
 REQ-PARTICIPANT:🎤 Prof. Mariano Baez Landa (CIESAS-Xalapa, México)
CREATED:20240912T214413Z
DESCRIPTION:Tema:\nAutonomía audiovisual y democracia comunicativa: Desaf
 íos para una antropología audiovisual participativa\n\nVenha participar 
 deste importante momento de abertura do semestre!
LAST-MODIFIED:20240920T142151Z
LOCATION:📍 Local: Auditório do ICS/UFAL
URL:https://ics.ufal.br/pt-br/pos-graduacao/mestrado-em-antropologia/insti
 tucional/aula-inaugural/2024/aula-inaugural-ppgas-ufal-2024
END:VEVENT
BEGIN:VTIMEZONE
TZID:America/Maceio
X-LIC-LOCATION:America/Maceio
BEGIN:STANDARD
DTSTART:20020216T230000
TZNAME:-03
TZOFFSETFROM:-0200
TZOFFSETTO:-0300
END:STANDARD
END:VTIMEZONE
END:VCALENDAR
