BEGIN:VCALENDAR
VERSION:2.0
PRODID:-//Plone.org//NONSGML plone.app.event//EN
X-WR-TIMEZONE:America/Maceio
BEGIN:VEVENT
SUMMARY:1º Simpósio de Antropologia do PPGAS/UFAL\, 3º AVAL Internacion
 al e o 3º MTB FEST
DTSTART;TZID=America/Maceio:20180903T080000
DTEND;TZID=America/Maceio:20180906T220000
DTSTAMP:20260420T165359Z
UID:c1cc5661c26140a192eb1b4a423bc5c1@ics.ufal.br
CREATED:20180710T225537Z
LAST-MODIFIED:20220428T104731Z
LOCATION:Instituto de Ciências Sociais
URL:https://ics.ufal.br/pt-br/pos-graduacao/mestrado-em-antropologia/insti
 tucional/eventos/1o-simposio-de-antropologia-do-ppgas-ufal-3o-aval-interna
 cional-e-o-3o-mtb-fest
END:VEVENT
BEGIN:VTIMEZONE
TZID:America/Maceio
X-LIC-LOCATION:America/Maceio
BEGIN:STANDARD
DTSTART:20020216T230000
TZNAME:-03
TZOFFSETFROM:-0200
TZOFFSETTO:-0300
END:STANDARD
END:VTIMEZONE
END:VCALENDAR
