BEGIN:VCALENDAR
VERSION:2.0
PRODID:-//Plone.org//NONSGML plone.app.event//EN
X-WR-TIMEZONE:America/Maceio
BEGIN:VEVENT
SUMMARY:“Abril Indígena”
DTSTART;TZID=America/Maceio:20160428T090000
DTEND;TZID=America/Maceio:20160428T210000
DTSTAMP:20260420T060320Z
UID:d8eab092683f4a2d81621d490b1bbdf8@ics.ufal.br
CONTACT:3214-1716/1710\, http://migre.me/tz7Qd
CREATED:20160420T125328Z
DESCRIPTION:Programação conta com palestras\, mostra de filmes etnográf
 icos e debates sobre a temática indígena.\n
LAST-MODIFIED:20220428T104731Z
LOCATION:Museu Théo Brandão de Antropologia e Folclore (MTB)
URL:https://ics.ufal.br/pt-br/pos-graduacao/mestrado-em-antropologia/insti
 tucional/eventos/201cabril-indigena201d
END:VEVENT
BEGIN:VTIMEZONE
TZID:America/Maceio
X-LIC-LOCATION:America/Maceio
BEGIN:STANDARD
DTSTART:20020216T230000
TZNAME:-03
TZOFFSETFROM:-0200
TZOFFSETTO:-0300
END:STANDARD
END:VTIMEZONE
END:VCALENDAR
