BEGIN:VCALENDAR
VERSION:2.0
PRODID:-//Plone.org//NONSGML plone.app.event//EN
X-WR-TIMEZONE:America/Maceio
BEGIN:VEVENT
SUMMARY:Aula Inaugural 2020 - Profa. Sônia Maluf
DTSTART;TZID=America/Maceio:20200508T160000
DTEND;TZID=America/Maceio:20200508T170000
DTSTAMP:20260420T091245Z
UID:08f7125f0bec41dea3dde591145b29b7@ics.ufal.br
CREATED:20200504T131826Z
LAST-MODIFIED:20220428T104732Z
LOCATION:Instagram Ao Vivo (@ppgas.ufal)
URL:https://ics.ufal.br/pt-br/pos-graduacao/mestrado-em-antropologia/insti
 tucional/eventos/aula-inaugural-2020-profa-sonia-maluf
END:VEVENT
BEGIN:VTIMEZONE
TZID:America/Maceio
X-LIC-LOCATION:America/Maceio
BEGIN:STANDARD
DTSTART:20020216T230000
TZNAME:-03
TZOFFSETFROM:-0200
TZOFFSETTO:-0300
END:STANDARD
END:VTIMEZONE
END:VCALENDAR
