BEGIN:VCALENDAR
VERSION:2.0
PRODID:-//Plone.org//NONSGML plone.app.event//EN
X-WR-TIMEZONE:America/Maceio
BEGIN:VEVENT
SUMMARY:Aula inaugural 2022 do PPGAS será ministrada pela profa Pamela Bl
 ock
DTSTART;TZID=America/Maceio:20220525T170000
DTSTAMP:20260420T183034Z
UID:d47f074ee9fc446485a4bc3f1920b7d2@ics.ufal.br
CONTACT:3214-1322\, secretaria.ppgas@ics.ufal.br
CREATED:20220518T200922Z
LAST-MODIFIED:20220518T202120Z
LOCATION:Instituto de Ciências Sociais - ICS
URL:https://ics.ufal.br/pt-br/pos-graduacao/mestrado-em-antropologia/insti
 tucional/eventos/aula-inaugural-2022-do-ppgas-sera-ministrada-pela-profa-p
 amela-block
END:VEVENT
BEGIN:VTIMEZONE
TZID:America/Maceio
X-LIC-LOCATION:America/Maceio
BEGIN:STANDARD
DTSTART:20020216T230000
TZNAME:-03
TZOFFSETFROM:-0200
TZOFFSETTO:-0300
END:STANDARD
END:VTIMEZONE
END:VCALENDAR
