BEGIN:VCALENDAR
VERSION:2.0
PRODID:-//Plone.org//NONSGML plone.app.event//EN
X-WR-TIMEZONE:America/Maceio
BEGIN:VEVENT
SUMMARY:Aula Inaugural - Teorias do Brasil: revisão crítica\, alternativ
 as e condições de sua possibilidade
DTSTART;TZID=America/Maceio:20180130T190000
DTEND;TZID=America/Maceio:20180130T220000
DTSTAMP:20260420T173021Z
UID:863e7d40fc72409baa1b39a44549a3f4@ics.ufal.br
CONTACT:http://www.ufal.edu.br/unidadeacademica/ics/pos-graduacao/mestrado
 -em-antropologia/eventos/aula-inaugural-teorias-do-brasil-revisao-critica-
 alternativas-e-condicoes-de-sua-possibilidade/view
CREATED:20180122T131259Z
LAST-MODIFIED:20220428T104731Z
LOCATION:Auditório do CIC\, UFAL
URL:https://ics.ufal.br/pt-br/pos-graduacao/mestrado-em-antropologia/insti
 tucional/eventos/aula-inaugural-teorias-do-brasil-revisao-critica-alternat
 ivas-e-condicoes-de-sua-possibilidade-1
END:VEVENT
BEGIN:VTIMEZONE
TZID:America/Maceio
X-LIC-LOCATION:America/Maceio
BEGIN:STANDARD
DTSTART:20020216T230000
TZNAME:-03
TZOFFSETFROM:-0200
TZOFFSETTO:-0300
END:STANDARD
END:VTIMEZONE
END:VCALENDAR
