BEGIN:VCALENDAR
VERSION:2.0
PRODID:-//Plone.org//NONSGML plone.app.event//EN
X-WR-TIMEZONE:America/Maceio
BEGIN:VEVENT
SUMMARY:Aula Inaugural - Profa. Dra. Cornélia Eckert
DTSTART;TZID=America/Maceio:20151105T140000
DTEND;TZID=America/Maceio:20151105T180000
DTSTAMP:20260420T031156Z
UID:c9ee18514a65401581e974e4cd6a4bda@ics.ufal.br
CONTACT:Programa de pós-graduação em Antropologia Social\, 3214-1323\, 
 ppgasufal@gmail.com
CREATED:20151019T154249Z
DESCRIPTION:O Mestrado em Antropologia Social receberá a Profa. Dra. Corn
 élia Eckert (PPGAS/UFRGS)
LAST-MODIFIED:20220428T104731Z
LOCATION:Auditório do ICHCA
URL:https://ics.ufal.br/pt-br/pos-graduacao/mestrado-em-antropologia/insti
 tucional/eventos/aula-inaugural
END:VEVENT
BEGIN:VTIMEZONE
TZID:America/Maceio
X-LIC-LOCATION:America/Maceio
BEGIN:STANDARD
DTSTART:20020216T230000
TZNAME:-03
TZOFFSETFROM:-0200
TZOFFSETTO:-0300
END:STANDARD
END:VTIMEZONE
END:VCALENDAR
