BEGIN:VCALENDAR
VERSION:2.0
PRODID:-//Plone.org//NONSGML plone.app.event//EN
X-WR-TIMEZONE:America/Maceio
BEGIN:VEVENT
SUMMARY:Oficina - Tecendo uma nova história: indígenas\, pesquisadores e
  aliados
DTSTART;TZID=America/Maceio:20180131T140000
DTEND;TZID=America/Maceio:20180131T190000
DTSTAMP:20260420T184151Z
UID:66c12fb05e9846cfbbac82a43d1072dc@ics.ufal.br
CONTACT:http://www.ufal.edu.br/unidadeacademica/ics/pos-graduacao/mestrado
 -em-antropologia/eventos/oficina-tecendo-uma-nova-historia-indigenas-pesqu
 isadores-e-aliados/view
CREATED:20180122T131413Z
LAST-MODIFIED:20220428T104731Z
LOCATION:Auditório do ICHCA
URL:https://ics.ufal.br/pt-br/pos-graduacao/mestrado-em-antropologia/insti
 tucional/eventos/oficina-tecendo-uma-nova-historia-indigenas-pesquisadores
 -e-aliados-1
END:VEVENT
BEGIN:VTIMEZONE
TZID:America/Maceio
X-LIC-LOCATION:America/Maceio
BEGIN:STANDARD
DTSTART:20020216T230000
TZNAME:-03
TZOFFSETFROM:-0200
TZOFFSETTO:-0300
END:STANDARD
END:VTIMEZONE
END:VCALENDAR
