BEGIN:VCALENDAR
VERSION:2.0
PRODID:-//Plone.org//NONSGML plone.app.event//EN
X-WR-TIMEZONE:America/Maceio
BEGIN:VEVENT
SUMMARY:Palestra “Eu esqueço de mim” (Tchau güũ ta tcha rü ngüma)
 : o suicídio entre os Ticuna
DTSTART;TZID=America/Maceio:20160129T140000
DTEND;TZID=America/Maceio:20160129T180000
DTSTAMP:20260420T184517Z
UID:2a4e0b07a81e4a86aa079eb2a0071d67@ics.ufal.br
CONTACT:http://www.ufal.edu.br/unidadeacademica/ics/pos-graduacao/mestrado
 -em-antropologia/noticias-1/palestra-201ceu-esqueco-de-mim201d-tchau-guu-t
 a-tcha-ru-nguma-o-suicidio-entre-os-ticuna-no-dia-29-de-janeiro
CREATED:20160118T180045Z
DESCRIPTION:Palestrante Aline Moreira Magalhães\, doutora em Antropologia
  Social pelo Museu Nacional. O evento é gratuito e promovido pelo Grupo E
 tnologia Indígena do Programa de Pós-Graduação em Antropologia Social 
 (PPGAS/UFAL). \n\n
LAST-MODIFIED:20220428T104731Z
LOCATION:Auditório do ICHCA
URL:https://ics.ufal.br/pt-br/pos-graduacao/mestrado-em-antropologia/insti
 tucional/eventos/palestra-201ceu-esqueco-de-mim201d-tchau-guu-ta-tcha-ru-n
 guma-o-suicidio-entre-os-ticuna-no-dia-29-de-janeiro
END:VEVENT
BEGIN:VTIMEZONE
TZID:America/Maceio
X-LIC-LOCATION:America/Maceio
BEGIN:STANDARD
DTSTART:20020216T230000
TZNAME:-03
TZOFFSETFROM:-0200
TZOFFSETTO:-0300
END:STANDARD
END:VTIMEZONE
END:VCALENDAR
