BEGIN:VCALENDAR
VERSION:2.0
PRODID:-//Plone.org//NONSGML plone.app.event//EN
X-WR-TIMEZONE:America/Maceio
BEGIN:VEVENT
SUMMARY:Palestra "Gente da sua gente" - Etnografia\, experiências e media
 ções na produção dos registros sonoros de Théo Brandão.
DTSTART;TZID=America/Maceio:20180301T090000
DTEND;TZID=America/Maceio:20180301T120000
DTSTAMP:20260420T203514Z
UID:5fd0f32153f243a78fd95e6afc836e4b@ics.ufal.br
CREATED:20180226T115807Z
LAST-MODIFIED:20220428T104731Z
LOCATION:Auditório do Museu Théo Brandão
URL:https://ics.ufal.br/pt-br/pos-graduacao/mestrado-em-antropologia/insti
 tucional/eventos/palestra-gente-da-sua-gente-etnografia-experiencias-e-med
 iacoes-na-producao-dos-registros-sonoros-de-theo-brandao
END:VEVENT
BEGIN:VTIMEZONE
TZID:America/Maceio
X-LIC-LOCATION:America/Maceio
BEGIN:STANDARD
DTSTART:20020216T230000
TZNAME:-03
TZOFFSETFROM:-0200
TZOFFSETTO:-0300
END:STANDARD
END:VTIMEZONE
END:VCALENDAR
