BEGIN:VCALENDAR
VERSION:2.0
PRODID:-//Plone.org//NONSGML plone.app.event//EN
X-WR-TIMEZONE:America/Maceio
BEGIN:VEVENT
SUMMARY:Palestra Reconhecimento\, Classificações e Territórios: notas d
 e pesquisas sobre indígenas e quilombolas
DTSTART;TZID=America/Maceio:20170303T190000
DTEND;TZID=America/Maceio:20170303T220000
DTSTAMP:20260420T203135Z
UID:fea1af8dce0e492e89b4a15dc59ebd8d@ics.ufal.br
CREATED:20170222T144710Z
LAST-MODIFIED:20220428T104731Z
LOCATION:Auditório Paulo Décio (ICS)
URL:https://ics.ufal.br/pt-br/pos-graduacao/mestrado-em-antropologia/insti
 tucional/eventos/palestra-reconhecimento-classificacoes-e-territorios-nota
 s-de-pesquisas-sobre-indigenas-e-quilombolas
END:VEVENT
BEGIN:VTIMEZONE
TZID:America/Maceio
X-LIC-LOCATION:America/Maceio
BEGIN:STANDARD
DTSTART:20020216T230000
TZNAME:-03
TZOFFSETFROM:-0200
TZOFFSETTO:-0300
END:STANDARD
END:VTIMEZONE
END:VCALENDAR
