BEGIN:VCALENDAR
VERSION:2.0
PRODID:-//Plone.org//NONSGML plone.app.event//EN
X-WR-TIMEZONE:America/Maceio
BEGIN:VEVENT
SUMMARY:Palestra "Suicídio e Juventude Indígena no Brasil: mitos e desaf
 ios
DTSTART;TZID=America/Maceio:20180521T190000
DTEND;TZID=America/Maceio:20180521T220000
DTSTAMP:20260420T204924Z
UID:ca958739b7434760bb973737c6a84aad@ics.ufal.br
CREATED:20180507T153639Z
DESCRIPTION:Palestrante: Profa. Dra. Lívia Vitenti (Consultora OPAS). 
LAST-MODIFIED:20220428T104731Z
LOCATION:Auditório Paulo Décio (ICS/UFAL)
URL:https://ics.ufal.br/pt-br/pos-graduacao/mestrado-em-antropologia/insti
 tucional/eventos/palestra-suicidio-e-juventude-indigena-no-brasil-mitos-e-
 desafios
END:VEVENT
BEGIN:VTIMEZONE
TZID:America/Maceio
X-LIC-LOCATION:America/Maceio
BEGIN:STANDARD
DTSTART:20020216T230000
TZNAME:-03
TZOFFSETFROM:-0200
TZOFFSETTO:-0300
END:STANDARD
END:VTIMEZONE
END:VCALENDAR
