BEGIN:VCALENDAR
VERSION:2.0
PRODID:-//Plone.org//NONSGML plone.app.event//EN
X-WR-TIMEZONE:America/Maceio
BEGIN:VEVENT
SUMMARY:PESQUISA CLÍNICA E O SISTEMA CEP/CONEP: LIÇÕES  ACERCA DO DEBAT
 E EM TORNO DA REGULAMENTAÇÃO DA ÉTICA EM PESQUISA CLÍNICA EM SERES HUM
 ANOS
DTSTART;TZID=America/Maceio:20151026T173000
DTEND;TZID=America/Maceio:20151026T190000
DTSTAMP:20260420T172740Z
UID:105343a66609459dbd2cd823b17d2838@ics.ufal.br
CONTACT:ppgasufal@gmail.com
CREATED:20151021T215120Z
DESCRIPTION:A pesquisadora\, doutoranda do PPGAS-UFRGS\, Roberta Grudzinsk
 i  irá expor as dificuldades\, dilemas e desafios da ética em pesquisa s
 ocial
LAST-MODIFIED:20220428T104731Z
LOCATION:Auditório Paulo Décio
URL:https://ics.ufal.br/pt-br/pos-graduacao/mestrado-em-antropologia/insti
 tucional/eventos/pesquisa-clinica-e-o-sistema-cep-conep-quais-as-licoes-qu
 e-tiramos-acerca-do-debate-em-torno-da-regulamentacao-da-etica-em-pesquisa
 -clinica-em-seres-humanos
END:VEVENT
BEGIN:VTIMEZONE
TZID:America/Maceio
X-LIC-LOCATION:America/Maceio
BEGIN:STANDARD
DTSTART:20020216T230000
TZNAME:-03
TZOFFSETFROM:-0200
TZOFFSETTO:-0300
END:STANDARD
END:VTIMEZONE
END:VCALENDAR
