BEGIN:VCALENDAR
VERSION:2.0
PRODID:-//Plone.org//NONSGML plone.app.event//EN
X-WR-TIMEZONE:America/Maceio
BEGIN:VEVENT
SUMMARY:Por uma antropologia das fronteiras - Michel Agier
DTSTART;TZID=America/Maceio:20151123T100000
DTEND;TZID=America/Maceio:20151123T120000
DTSTAMP:20260420T174855Z
UID:6f58b16461a64960b2d405d59cdacdba@ics.ufal.br
CREATED:20151108T234313Z
DESCRIPTION:O antropólogo Michel AGIER fará uma palestra na VII Bienal I
 nternacional do Livro de Alagoas
LAST-MODIFIED:20220428T104731Z
LOCATION:Centro Cultural e de Exposições Ruth Cardoso - Auditório Massa
 yok A
URL:https://ics.ufal.br/pt-br/pos-graduacao/mestrado-em-antropologia/insti
 tucional/eventos/por-uma-antropologia-das-fronteiras-michel-agier
END:VEVENT
BEGIN:VTIMEZONE
TZID:America/Maceio
X-LIC-LOCATION:America/Maceio
BEGIN:STANDARD
DTSTART:20020216T230000
TZNAME:-03
TZOFFSETFROM:-0200
TZOFFSETTO:-0300
END:STANDARD
END:VTIMEZONE
END:VCALENDAR
