BEGIN:VCALENDAR
VERSION:2.0
PRODID:-//Plone.org//NONSGML plone.app.event//EN
X-WR-TIMEZONE:America/Maceio
BEGIN:VEVENT
SUMMARY:Por uma SocioAntropologia da Pesca.
DTSTART;TZID=America/Maceio:20190927T100000
DTEND;TZID=America/Maceio:20190927T120000
DTSTAMP:20260420T205023Z
UID:1c1adf2bbe794e82899cd94226f4f3d2@ics.ufal.br
CONTACT:3214-1322\, secretaria.ppgas@ics.ufal.br
CREATED:20190924T144203Z
LAST-MODIFIED:20220428T104732Z
URL:https://ics.ufal.br/pt-br/pos-graduacao/mestrado-em-antropologia/insti
 tucional/eventos/por-uma-socioantropologia-da-pesca
END:VEVENT
BEGIN:VTIMEZONE
TZID:America/Maceio
X-LIC-LOCATION:America/Maceio
BEGIN:STANDARD
DTSTART:20020216T230000
TZNAME:-03
TZOFFSETFROM:-0200
TZOFFSETTO:-0300
END:STANDARD
END:VTIMEZONE
END:VCALENDAR
