BEGIN:VCALENDAR
VERSION:2.0
PRODID:-//Plone.org//NONSGML plone.app.event//EN
X-WR-TIMEZONE:America/Maceio
BEGIN:VEVENT
SUMMARY:PPGAS/UFAL convida: Lançamentos e Roda de Conversa com as autoras
  de Partos\, Maternidades e Políticas do Corpo
DTSTART;TZID=America/Maceio:20160127T160000
DTEND;TZID=America/Maceio:20160127T190000
DTSTAMP:20260420T141948Z
UID:9b57f42cb15043a88ba937598eb44111@ics.ufal.br
CONTACT:http://www.ufal.edu.br/unidadeacademica/ics/pos-graduacao/mestrado
 -em-antropologia/noticias-1/ppgas-ufal-convida-lancamentos-e-roda-de-conve
 rsa-com-as-autoras-de-partos-maternidades-e-politicas-do-corpo
CREATED:20160121T133238Z
DESCRIPTION:Lançamento do Dossiê Partos\, Maternidades e Políticas do C
 orpo e roda de conversa com as autoras. 
LAST-MODIFIED:20220428T104731Z
LOCATION:Museu Théo Brandão de Antropologia e Folclore (MTB)
URL:https://ics.ufal.br/pt-br/pos-graduacao/mestrado-em-antropologia/insti
 tucional/eventos/ppgas-ufal-convida-lancamentos-e-roda-de-conversa-com-as-
 autoras-de-partos-maternidades-e-politicas-do-corpo
END:VEVENT
BEGIN:VTIMEZONE
TZID:America/Maceio
X-LIC-LOCATION:America/Maceio
BEGIN:STANDARD
DTSTART:20020216T230000
TZNAME:-03
TZOFFSETFROM:-0200
TZOFFSETTO:-0300
END:STANDARD
END:VTIMEZONE
END:VCALENDAR
