BEGIN:VCALENDAR
VERSION:2.0
PRODID:-//Plone.org//NONSGML plone.app.event//EN
X-WR-TIMEZONE:America/Maceio
BEGIN:VEVENT
SUMMARY:Prova Escrita da Seleção do Mestrado em Antropologia Social UFAL
  Discente Regular 2025
DTSTART;VALUE=DATE:20241014
DTEND;VALUE=DATE:20241015
DTSTAMP:20260420T201046Z
UID:6b46d6a9178c4c44b163bf7a08c12c5d@ics.ufal.br
CREATED:20240910T175600Z
LAST-MODIFIED:20240910T175803Z
LOCATION:ICS/UFAL
URL:https://ics.ufal.br/pt-br/pos-graduacao/mestrado-em-antropologia/insti
 tucional/eventos/prova-escrita-da-selecao-do-mestrado-em-antropologia-soci
 al-ufal-discente-regular-2025
END:VEVENT
END:VCALENDAR
