BEGIN:VCALENDAR
VERSION:2.0
PRODID:-//Plone.org//NONSGML plone.app.event//EN
X-WR-TIMEZONE:America/Maceio
BEGIN:VEVENT
SUMMARY:REAGENDADA Aula Inaugural 2022 do PPGAS com a profa Pamela Block
DTSTART;TZID=America/Maceio:20220530T150000
DTSTAMP:20260420T180058Z
UID:52141a6d01fb470b91d7d6fd74099db2@ics.ufal.br
CONTACT:Secretaria do PPGAS\, 3214-1322\, secretaria.ppgas@ics.ufal.br
CREATED:20220526T200700Z
LAST-MODIFIED:20220526T201440Z
LOCATION:Auditório Paulo Décio no ICS
URL:https://ics.ufal.br/pt-br/pos-graduacao/mestrado-em-antropologia/insti
 tucional/eventos/reagendada-aula-inaugural-2022-do-ppgas-com-a-profa-pamel
 a-block
END:VEVENT
BEGIN:VTIMEZONE
TZID:America/Maceio
X-LIC-LOCATION:America/Maceio
BEGIN:STANDARD
DTSTART:20020216T230000
TZNAME:-03
TZOFFSETFROM:-0200
TZOFFSETTO:-0300
END:STANDARD
END:VTIMEZONE
END:VCALENDAR
